BEGIN:VCALENDAR
VERSION:2.0
PRODID:icalendar-ruby
CALSCALE:GREGORIAN
METHOD:PUBLISH
BEGIN:VEVENT
DTSTAMP:20260420T120101Z
UID:5-397822@zionefc.org
DTSTART:20260906T153000Z
DTEND:20260906T163000Z
CLASS:PUBLIC
CREATED:20260420T025429
DESCRIPTION:Sunday Worship
LAST-MODIFIED:20260420T025429
LOCATION:
SUMMARY:Sunday Worship
URL;VALUE=URI:https://www.zionefc.org/events/sunday-worship/2026-09-06
END:VEVENT
END:VCALENDAR
