BEGIN:VCALENDAR
VERSION:2.0
PRODID:icalendar-ruby
CALSCALE:GREGORIAN
METHOD:PUBLISH
BEGIN:VEVENT
DTSTAMP:20260420T102222Z
UID:5-397821@zionefc.org
DTSTART:20260830T153000Z
DTEND:20260830T163000Z
CLASS:PUBLIC
CREATED:20260420T025429
DESCRIPTION:Sunday Worship
LAST-MODIFIED:20260420T025429
LOCATION:
SUMMARY:Sunday Worship
URL;VALUE=URI:https://www.zionefc.org/events/sunday-worship/2026-08-30
END:VEVENT
END:VCALENDAR
